BEGIN:VCALENDAR
VERSION:2.0
PRODID:-//DPSG Hochdahl - ECPv6.15.20//NONSGML v1.0//EN
CALSCALE:GREGORIAN
METHOD:PUBLISH
X-ORIGINAL-URL:https://dpsg-hochdahl.de
X-WR-CALDESC:Veranstaltungen für DPSG Hochdahl
REFRESH-INTERVAL;VALUE=DURATION:PT1H
X-Robots-Tag:noindex
X-PUBLISHED-TTL:PT1H
BEGIN:VTIMEZONE
TZID:Europe/Berlin
BEGIN:DAYLIGHT
TZOFFSETFROM:+0100
TZOFFSETTO:+0200
TZNAME:CEST
DTSTART:20250330T010000
END:DAYLIGHT
BEGIN:STANDARD
TZOFFSETFROM:+0200
TZOFFSETTO:+0100
TZNAME:CET
DTSTART:20251026T010000
END:STANDARD
BEGIN:DAYLIGHT
TZOFFSETFROM:+0100
TZOFFSETTO:+0200
TZNAME:CEST
DTSTART:20260329T010000
END:DAYLIGHT
BEGIN:STANDARD
TZOFFSETFROM:+0200
TZOFFSETTO:+0100
TZNAME:CET
DTSTART:20261025T010000
END:STANDARD
BEGIN:DAYLIGHT
TZOFFSETFROM:+0100
TZOFFSETTO:+0200
TZNAME:CEST
DTSTART:20270328T010000
END:DAYLIGHT
BEGIN:STANDARD
TZOFFSETFROM:+0200
TZOFFSETTO:+0100
TZNAME:CET
DTSTART:20271031T010000
END:STANDARD
END:VTIMEZONE
BEGIN:VEVENT
DTSTART;TZID=Europe/Berlin:20260509T140000
DTEND;TZID=Europe/Berlin:20260509T160000
DTSTAMP:20260422T201101
CREATED:20260306T194625Z
LAST-MODIFIED:20260306T194625Z
UID:10070-1778335200-1778342400@dpsg-hochdahl.de
SUMMARY:Material für Pfingsten vorbereiten
DESCRIPTION:Wir bereiten unser Zeltmaterial für Pfingsten vor und packen es zusammen.
URL:https://dpsg-hochdahl.de/kalender/material-pfingsten/
LOCATION:Pfadfinderheim – DPSG Hochdahl\, Trills 28\, Erkrath\, 40699\, Deutschland
CATEGORIES:Leitendenrunde,Sonstiges
ORGANIZER;CN="DPSG Hochdahl":MAILTO:vorstand@dpsg-hochdahl.de
END:VEVENT
END:VCALENDAR